Index of /checkResults/release/bioc-LATEST/Rhdf5lib/raw-results

[ICO]NameLast modifiedSizeDescription

[DIR]Parent Directory  -  
[DIR]palomino3/28-Sep-2023 00:36 -  
[DIR]nebbiolo1/28-Sep-2023 00:35 -  
[DIR]merida1/28-Sep-2023 00:37 -  
[   ]info.dcf28-Sep-2023 00:37 270