![]() | Name | Last modified | Size | Description |
---|---|---|---|---|
![]() | Parent Directory | - | ||
![]() | buildsrc-out.txt | 23-Sep-2023 00:35 | 834 | |
![]() | buildsrc-summary.dcf | 23-Sep-2023 00:35 | 438 | |
![]() | checksrc-out.txt | 23-Sep-2023 00:35 | 3.2K | |
![]() | checksrc-summary.dcf | 23-Sep-2023 00:35 | 442 | |
![]() | install-out.txt | 23-Sep-2023 00:35 | 1.0K | |
![]() | install-summary.dcf | 23-Sep-2023 00:35 | 273 | |