Index of /checkResults/release/bioc-LATEST/Rdisop/raw-results/palomino3

[ICO]NameLast modifiedSizeDescription

[DIR]Parent Directory  -  
[TXT]buildbin-out.txt02-Jul-2022 01:07 45K 
[   ]buildbin-summary.dcf02-Jul-2022 01:07 509  
[TXT]buildsrc-out.txt02-Jul-2022 01:07 1.1K 
[   ]buildsrc-summary.dcf02-Jul-2022 01:07 448  
[TXT]checksrc-out.txt02-Jul-2022 01:07 7.3K 
[   ]checksrc-summary.dcf02-Jul-2022 01:07 448  
[TXT]install-out.txt02-Jul-2022 01:07 44K 
[   ]install-summary.dcf02-Jul-2022 01:07 266