Index of /checkResults/release/bioc-LATEST/Rdisop/raw-results/merida1

[ICO]NameLast modifiedSizeDescription

[DIR]Parent Directory  -  
[TXT]buildbin-out.txt02-Jul-2022 01:08 47K 
[   ]buildbin-summary.dcf02-Jul-2022 01:08 524  
[TXT]buildsrc-out.txt02-Jul-2022 01:08 890  
[   ]buildsrc-summary.dcf02-Jul-2022 01:08 424  
[TXT]checksrc-out.txt02-Jul-2022 01:08 9.1K 
[   ]checksrc-summary.dcf02-Jul-2022 01:08 445  
[TXT]install-out.txt02-Jul-2022 01:08 46K 
[   ]install-summary.dcf02-Jul-2022 01:08 267