Name | Last modified | Size | Description | |
---|---|---|---|---|
Parent Directory | - | |||
buildbin-out.txt | 10-May-2024 00:40 | 16K | ||
buildbin-summary.dcf | 10-May-2024 00:40 | 524 | ||
buildsrc-out.txt | 10-May-2024 00:40 | 890 | ||
buildsrc-summary.dcf | 10-May-2024 00:40 | 424 | ||
checksrc-out.txt | 10-May-2024 00:40 | 4.8K | ||
checksrc-summary.dcf | 10-May-2024 00:40 | 445 | ||
install-out.txt | 10-May-2024 00:40 | 14K | ||
install-summary.dcf | 10-May-2024 00:40 | 267 | ||