Index of /checkResults/release/bioc-LATEST/RcwlPipelines/raw-results

[ICO]NameLast modifiedSizeDescription

[DIR]Parent Directory  -  
[   ]info.dcf07-Feb-2023 01:06 283  
[DIR]kjohnson/12-Jul-2022 00:06 -  
[DIR]lconway/07-Feb-2023 01:06 -  
[DIR]nebbiolo2/07-Feb-2023 01:05 -