Back to Multiple platform build/check report for BioC 3.14
ABCDEFGHIJKLMNOPQ[R]STUVWXYZ

This page was generated on 2022-01-19 13:07:12 -0500 (Wed, 19 Jan 2022).

HostnameOSArch (*)R versionInstalled pkgs
nebbiolo2Linux (Ubuntu 20.04.4 LTS)x86_644.1.2 (2021-11-01) -- "Bird Hippie" 4328
tokay2Windows Server 2012 R2 Standardx644.1.2 (2021-11-01) -- "Bird Hippie" 4077
machv2macOS 10.14.6 Mojavex86_644.1.2 (2021-11-01) -- "Bird Hippie" 4138
Click on any hostname to see more info about the system (e.g. compilers)      (*) as reported by 'uname -p', except on Windows and Mac OS X

BUILD BIN results for Rcade on tokay2


To the developers/maintainers of the Rcade package:
- Please allow up to 24 hours (and sometimes 48 hours) for your latest push to git@git.bioconductor.org:packages/Rcade.git to
reflect on this report. See How and When does the builder pull? When will my changes propagate? here for more information.
- Make sure to use the following settings in order to reproduce any error or warning you see on this page.

raw results

Package 1540/2083HostnameOS / ArchINSTALLBUILDCHECKBUILD BIN
Rcade 1.36.0  (landing page)
Jonathan Cairns
Snapshot Date: 2022-01-18 01:55:07 -0500 (Tue, 18 Jan 2022)
git_url: https://git.bioconductor.org/packages/Rcade
git_branch: RELEASE_3_14
git_last_commit: 8803391
git_last_commit_date: 2021-10-26 12:05:06 -0500 (Tue, 26 Oct 2021)
nebbiolo2Linux (Ubuntu 20.04.4 LTS) / x86_64  OK    OK    OK  UNNEEDED, same version is already published
tokay2Windows Server 2012 R2 Standard / x64  OK    OK    OK    OK  UNNEEDED, same version is already published
machv2macOS 10.14.6 Mojave / x86_64  OK    OK    OK    OK  UNNEEDED, same version is already published

Summary

Package: Rcade
Version: 1.36.0
Command: rm -rf Rcade.buildbin-libdir && mkdir Rcade.buildbin-libdir && C:\Users\biocbuild\bbs-3.14-bioc\R\bin\R.exe CMD INSTALL --merge-multiarch --build --library=Rcade.buildbin-libdir Rcade_1.36.0.tar.gz
StartedAt: 2022-01-19 06:34:28 -0500 (Wed, 19 Jan 2022)
EndedAt: 2022-01-19 06:35:35 -0500 (Wed, 19 Jan 2022)
EllapsedTime: 66.5 seconds
RetCode: 0
Status:   OK  
PackageFile: Rcade_1.36.0.zip
PackageFileSize: 2.139 MiB

Command output

##############################################################################
##############################################################################
###
### Running command:
###
###   rm -rf Rcade.buildbin-libdir && mkdir Rcade.buildbin-libdir && C:\Users\biocbuild\bbs-3.14-bioc\R\bin\R.exe CMD INSTALL --merge-multiarch --build --library=Rcade.buildbin-libdir Rcade_1.36.0.tar.gz
###
##############################################################################
##############################################################################



install for i386

* installing *source* package 'Rcade' ...
** using staged installation
** R
** data
** inst
** byte-compile and prepare package for lazy loading
** help
*** installing help indices
  converting help for package 'Rcade'
    finding HTML links ... done
    Rcade-class                             html  
    RcadeAnalysis                           html  
    RcadeSTAT1                              html  
    RcadeTrack-class                        html  
    constructRcadeTable                     html  
    countReads                              html  
    defineBins                              html  
    finding level-2 HTML links ... done

    diffCountsBaySeq                        html  
    exportRcade-methods                     html  
** building package indices
** installing vignettes
** testing if installed package can be loaded from temporary location
** testing if installed package can be loaded from final location
** testing if installed package keeps a record of temporary installation path

install for x64

* installing *source* package 'Rcade' ...
** testing if installed package can be loaded
* MD5 sums
packaged installation of 'Rcade' as Rcade_1.36.0.zip
* DONE (Rcade)