Back to Multiple platform build/check report for BioC 3.14
ABCDEFGHIJKLMNOPQ[R]STUVWXYZ

This page was generated on 2022-01-21 13:08:21 -0500 (Fri, 21 Jan 2022).

HostnameOSArch (*)R versionInstalled pkgs
nebbiolo2Linux (Ubuntu 20.04.4 LTS)x86_644.1.2 (2021-11-01) -- "Bird Hippie" 4329
tokay2Windows Server 2012 R2 Standardx644.1.2 (2021-11-01) -- "Bird Hippie" 4079
machv2macOS 10.14.6 Mojavex86_644.1.2 (2021-11-01) -- "Bird Hippie" 4140
Click on any hostname to see more info about the system (e.g. compilers)      (*) as reported by 'uname -p', except on Windows and Mac OS X

CHECK results for Rcade on machv2


To the developers/maintainers of the Rcade package:
- Please allow up to 24 hours (and sometimes 48 hours) for your latest push to git@git.bioconductor.org:packages/Rcade.git to
reflect on this report. See How and When does the builder pull? When will my changes propagate? here for more information.
- Make sure to use the following settings in order to reproduce any error or warning you see on this page.

raw results

Package 1540/2083HostnameOS / ArchINSTALLBUILDCHECKBUILD BIN
Rcade 1.36.0  (landing page)
Jonathan Cairns
Snapshot Date: 2022-01-20 01:55:04 -0500 (Thu, 20 Jan 2022)
git_url: https://git.bioconductor.org/packages/Rcade
git_branch: RELEASE_3_14
git_last_commit: 8803391
git_last_commit_date: 2021-10-26 12:05:06 -0500 (Tue, 26 Oct 2021)
nebbiolo2Linux (Ubuntu 20.04.4 LTS) / x86_64  OK    OK    OK  UNNEEDED, same version is already published
tokay2Windows Server 2012 R2 Standard / x64  OK    OK    OK    OK  UNNEEDED, same version is already published
machv2macOS 10.14.6 Mojave / x86_64  OK    OK    OK    OK  UNNEEDED, same version is already published

Summary

Package: Rcade
Version: 1.36.0
Command: /Library/Frameworks/R.framework/Resources/bin/R CMD check --install=check:Rcade.install-out.txt --library=/Library/Frameworks/R.framework/Resources/library --no-vignettes --timings --no-examples Rcade_1.36.0.tar.gz
StartedAt: 2022-01-20 16:57:17 -0500 (Thu, 20 Jan 2022)
EndedAt: 2022-01-20 17:01:53 -0500 (Thu, 20 Jan 2022)
EllapsedTime: 276.0 seconds
RetCode: 0
Status:   OK  
CheckDir: Rcade.Rcheck
Warnings: 0

Command output

##############################################################################
##############################################################################
###
### Running command:
###
###   /Library/Frameworks/R.framework/Resources/bin/R CMD check --install=check:Rcade.install-out.txt --library=/Library/Frameworks/R.framework/Resources/library --no-vignettes --timings --no-examples Rcade_1.36.0.tar.gz
###
##############################################################################
##############################################################################


* using log directory ‘/Users/biocbuild/bbs-3.14-bioc/meat/Rcade.Rcheck’
* using R version 4.1.2 (2021-11-01)
* using platform: x86_64-apple-darwin17.0 (64-bit)
* using session charset: UTF-8
* using options ‘--no-examples --no-vignettes’
* checking for file ‘Rcade/DESCRIPTION’ ... OK
* this is package ‘Rcade’ version ‘1.36.0’
* checking package namespace information ... OK
* checking package dependencies ... OK
* checking if this is a source package ... OK
* checking if there is a namespace ... OK
* checking for hidden files and directories ... NOTE
Found the following hidden files and directories:
  .BBSoptions
These were most likely included in error. See section ‘Package
structure’ in the ‘Writing R Extensions’ manual.
* checking for portable file names ... OK
* checking for sufficient/correct file permissions ... OK
* checking whether package ‘Rcade’ can be installed ... OK
* checking installed package size ... NOTE
  installed size is  5.7Mb
  sub-directories of 1Mb or more:
    extdata   5.2Mb
* checking package directory ... OK
* checking ‘build’ directory ... OK
* checking DESCRIPTION meta-information ... OK
* checking top-level files ... OK
* checking for left-over files ... OK
* checking index information ... OK
* checking package subdirectories ... OK
* checking R files for non-ASCII characters ... OK
* checking R files for syntax errors ... OK
* checking whether the package can be loaded ... OK
* checking whether the package can be loaded with stated dependencies ... OK
* checking whether the package can be unloaded cleanly ... OK
* checking whether the namespace can be loaded with stated dependencies ... OK
* checking whether the namespace can be unloaded cleanly ... OK
* checking dependencies in R code ... OK
* checking S3 generic/method consistency ... OK
* checking replacement functions ... OK
* checking foreign function calls ... OK
* checking R code for possible problems ... NOTE
constructRcadeTable: no visible binding for global variable ‘p.DE’
constructRcadeTable: no visible binding for global variable ‘p.ChIP’
plotBBB,Rcade: no visible global function definition for ‘decorate3d’
Undefined global functions or variables:
  decorate3d p.ChIP p.DE
* checking Rd files ... OK
* checking Rd metadata ... OK
* checking Rd cross-references ... OK
* checking for missing documentation entries ... OK
* checking for code/documentation mismatches ... OK
* checking Rd \usage sections ... OK
* checking Rd contents ... OK
* checking for unstated dependencies in examples ... OK
* checking contents of ‘data’ directory ... OK
* checking data for non-ASCII characters ... OK
* checking data for ASCII and uncompressed saves ... OK
* checking sizes of PDF files under ‘inst/doc’ ... OK
* checking files in ‘vignettes’ ... OK
* checking examples ... SKIPPED
* checking for unstated dependencies in ‘tests’ ... OK
* checking tests ...
  Running ‘runTests.R’
 OK
* checking for unstated dependencies in vignettes ... OK
* checking package vignettes in ‘inst/doc’ ... OK
* checking running R code from vignettes ... SKIPPED
* checking re-building of vignette outputs ... SKIPPED
* checking PDF version of manual ... OK
* DONE

Status: 3 NOTEs
See
  ‘/Users/biocbuild/bbs-3.14-bioc/meat/Rcade.Rcheck/00check.log’
for details.



Installation output

Rcade.Rcheck/00install.out

##############################################################################
##############################################################################
###
### Running command:
###
###   /Library/Frameworks/R.framework/Resources/bin/R CMD INSTALL Rcade
###
##############################################################################
##############################################################################


* installing to library ‘/Library/Frameworks/R.framework/Versions/4.1/Resources/library’
* installing *source* package ‘Rcade’ ...
** using staged installation
** R
** data
** inst
** byte-compile and prepare package for lazy loading
** help
*** installing help indices
** building package indices
** installing vignettes
** testing if installed package can be loaded from temporary location
** testing if installed package can be loaded from final location
** testing if installed package keeps a record of temporary installation path
* DONE (Rcade)

Tests output

Rcade.Rcheck/tests/runTests.Rout


R version 4.1.2 (2021-11-01) -- "Bird Hippie"
Copyright (C) 2021 The R Foundation for Statistical Computing
Platform: x86_64-apple-darwin17.0 (64-bit)

R is free software and comes with ABSOLUTELY NO WARRANTY.
You are welcome to redistribute it under certain conditions.
Type 'license()' or 'licence()' for distribution details.

R is a collaborative project with many contributors.
Type 'contributors()' for more information and
'citation()' on how to cite R or R packages in publications.

Type 'demo()' for some demos, 'help()' for on-line help, or
'help.start()' for an HTML browser interface to help.
Type 'q()' to quit R.

> require("Rcade") || stop("unable to load Rcade")
Loading required package: Rcade
Loading required package: GenomicRanges
Loading required package: stats4
Loading required package: BiocGenerics

Attaching package: 'BiocGenerics'

The following objects are masked from 'package:stats':

    IQR, mad, sd, var, xtabs

The following objects are masked from 'package:base':

    Filter, Find, Map, Position, Reduce, anyDuplicated, append,
    as.data.frame, basename, cbind, colnames, dirname, do.call,
    duplicated, eval, evalq, get, grep, grepl, intersect, is.unsorted,
    lapply, mapply, match, mget, order, paste, pmax, pmax.int, pmin,
    pmin.int, rank, rbind, rownames, sapply, setdiff, sort, table,
    tapply, union, unique, unsplit, which.max, which.min

Loading required package: S4Vectors

Attaching package: 'S4Vectors'

The following objects are masked from 'package:base':

    I, expand.grid, unname

Loading required package: IRanges
Loading required package: GenomeInfoDb
Loading required package: Rsamtools
Loading required package: Biostrings
Loading required package: XVector

Attaching package: 'Biostrings'

The following object is masked from 'package:base':

    strsplit

Loading required package: baySeq
Loading required package: abind
Loading required package: parallel
Welcome to Rcade - version 1.36.0
If you are new to Rcade, please consider reading the vignette through the command: vignette("Rcade").

Attaching package: 'Rcade'

The following object is masked from 'package:BiocGenerics':

    plotPCA

[1] TRUE
> BiocGenerics:::testPackage("Rcade")
File wgEncodeSydhTfbsHelas3InputIfng30StdAlnRep1.bam: Found 24 chromosomes, of which 0 are present in the annotation.
File wgEncodeSydhTfbsHelas3InputIfng30StdAlnRep1.bam: Removed all instances of 'chr' - now 19 chromosomes are present in the annotation.
File wgEncodeSydhTfbsHelas3InputStdAlnRep1.bam: Found 24 chromosomes, of which 0 are present in the annotation.
File wgEncodeSydhTfbsHelas3InputStdAlnRep1.bam: Removed all instances of 'chr' - now 19 chromosomes are present in the annotation.
File wgEncodeSydhTfbsHelas3Stat1Ifng30StdAlnRep1.bam: Found 24 chromosomes, of which 0 are present in the annotation.
File wgEncodeSydhTfbsHelas3Stat1Ifng30StdAlnRep1.bam: Removed all instances of 'chr' - now 19 chromosomes are present in the annotation.
File wgEncodeSydhTfbsHelas3Stat1Ifng30StdAlnRep2.bam: Found 24 chromosomes, of which 0 are present in the annotation.
File wgEncodeSydhTfbsHelas3Stat1Ifng30StdAlnRep2.bam: Removed all instances of 'chr' - now 19 chromosomes are present in the annotation.
File wgEncodeSydhTfbsHelas3InputIfng30StdAlnRep1.bam: Counting reads.
File wgEncodeSydhTfbsHelas3InputStdAlnRep1.bam: Counting reads.
File wgEncodeSydhTfbsHelas3Stat1Ifng30StdAlnRep1.bam: Counting reads.
File wgEncodeSydhTfbsHelas3Stat1Ifng30StdAlnRep2.bam: Counting reads.


RUNIT TEST PROTOCOL -- Thu Jan 20 17:01:45 2022 
*********************************************** 
Number of test functions: 3 
Number of errors: 0 
Number of failures: 0 

 
1 Test Suite : 
Rcade RUnit Tests - 3 test functions, 0 errors, 0 failures
Number of test functions: 3 
Number of errors: 0 
Number of failures: 0 
> 
> 
> proc.time()
   user  system elapsed 
 15.630   0.566  16.218 

Example timings