Index of /checkResults/release/bioc-LATEST/Rbowtie2/raw-results/palomino7
Name
Last modified
Size
Description
Parent Directory
-
buildsrc-out.txt
13-Jul-2024 06:40
2.5K
buildsrc-summary.dcf
13-Jul-2024 06:40
371
install-out.txt
13-Jul-2024 06:40
2.1K
install-summary.dcf
13-Jul-2024 06:40
273