Name | Last modified | Size | Description | |
---|---|---|---|---|
Parent Directory | - | |||
buildbin-out.txt | 19-Mar-2024 00:38 | 8.6K | ||
buildbin-summary.dcf | 19-Mar-2024 00:38 | 519 | ||
buildsrc-out.txt | 29-Jun-2024 06:42 | 2.5K | ||
buildsrc-summary.dcf | 29-Jun-2024 06:42 | 371 | ||
checksrc-out.txt | 19-Mar-2024 00:38 | 3.7K | ||
checksrc-summary.dcf | 19-Mar-2024 00:38 | 448 | ||
install-out.txt | 29-Jun-2024 06:42 | 2.1K | ||
install-summary.dcf | 29-Jun-2024 06:42 | 273 | ||