Name | Last modified | Size | Description | |
---|---|---|---|---|
Parent Directory | - | |||
buildbin-out.txt | 12-Jun-2024 03:42 | 16K | ||
buildbin-summary.dcf | 12-Jun-2024 03:42 | 537 | ||
buildsrc-out.txt | 12-Jun-2024 03:42 | 850 | ||
buildsrc-summary.dcf | 12-Jun-2024 03:42 | 431 | ||
checksrc-out.txt | 12-Jun-2024 03:42 | 3.7K | ||
checksrc-summary.dcf | 12-Jun-2024 03:42 | 447 | ||
install-out.txt | 12-Jun-2024 03:42 | 14K | ||
install-summary.dcf | 12-Jun-2024 03:42 | 272 | ||