Name | Last modified | Size | Description | |
---|---|---|---|---|
Parent Directory | - | |||
install-out.txt | 24-Jul-2024 22:03 | 1.4K | ||
install-summary.dcf | 24-Jul-2024 22:03 | 273 | ||
buildsrc-out.txt | 24-Jul-2024 22:03 | 874 | ||
buildsrc-summary.dcf | 24-Jul-2024 22:03 | 437 | ||
checksrc-out.txt | 24-Jul-2024 22:03 | 3.1K | ||
checksrc-summary.dcf | 24-Jul-2024 22:03 | 442 | ||