Name | Last modified | Size | Description | |
---|---|---|---|---|
Parent Directory | - | |||
install-summary.dcf | 24-Jul-2024 22:06 | 283 | ||
install-out.txt | 24-Jul-2024 22:06 | 1.4K | ||
checksrc-summary.dcf | 24-Jul-2024 22:06 | 472 | ||
checksrc-out.txt | 24-Jul-2024 22:06 | 3.2K | ||
buildsrc-summary.dcf | 24-Jul-2024 22:06 | 449 | ||
buildsrc-out.txt | 24-Jul-2024 22:06 | 884 | ||
buildbin-summary.dcf | 24-Jul-2024 22:06 | 573 | ||
buildbin-out.txt | 24-Jul-2024 22:06 | 1.6K | ||