Name | Last modified | Size | Description | |
---|---|---|---|---|
Parent Directory | - | |||
install-out.txt | 12-Jun-2024 03:44 | 1.4K | ||
install-summary.dcf | 12-Jun-2024 03:44 | 283 | ||
buildsrc-out.txt | 12-Jun-2024 03:44 | 884 | ||
buildsrc-summary.dcf | 12-Jun-2024 03:44 | 448 | ||
checksrc-out.txt | 12-Jun-2024 03:44 | 3.2K | ||
checksrc-summary.dcf | 12-Jun-2024 03:44 | 472 | ||
buildbin-out.txt | 12-Jun-2024 03:44 | 1.6K | ||
buildbin-summary.dcf | 12-Jun-2024 03:44 | 572 | ||