Name | Last modified | Size | Description | |
---|---|---|---|---|
Parent Directory | - | |||
buildbin-out.txt | 07-Mar-2024 01:33 | 1.2K | ||
buildbin-summary.dcf | 07-Mar-2024 01:33 | 587 | ||
buildsrc-out.txt | 18-Apr-2024 00:37 | 1.0K | ||
buildsrc-summary.dcf | 18-Apr-2024 00:37 | 403 | ||
checksrc-out.txt | 07-Mar-2024 01:33 | 4.2K | ||
checksrc-summary.dcf | 07-Mar-2024 01:33 | 500 | ||
install-out.txt | 18-Apr-2024 00:37 | 651 | ||
install-summary.dcf | 18-Apr-2024 00:37 | 294 | ||