Name | Last modified | Size | Description | |
---|---|---|---|---|
Parent Directory | - | |||
buildsrc-out.txt | 18-Apr-2024 00:36 | 931 | ||
buildsrc-summary.dcf | 18-Apr-2024 00:36 | 356 | ||
checksrc-out.txt | 07-Mar-2024 01:33 | 4.3K | ||
checksrc-summary.dcf | 07-Mar-2024 01:33 | 468 | ||
install-out.txt | 18-Apr-2024 00:36 | 668 | ||
install-summary.dcf | 18-Apr-2024 00:36 | 285 | ||