Index of /checkResults/release/bioc-LATEST/RandomWalkRestartMH/raw-results/nebbiolo1

[ICO]NameLast modifiedSizeDescription

[DIR]Parent Directory  -  
[TXT]buildsrc-out.txt02-Jul-2022 01:05 1.1K 
[   ]buildsrc-summary.dcf02-Jul-2022 01:05 454  
[TXT]checksrc-out.txt02-Jul-2022 01:05 4.1K 
[   ]checksrc-summary.dcf02-Jul-2022 01:05 477  
[TXT]install-out.txt02-Jul-2022 01:05 1.0K 
[   ]install-summary.dcf02-Jul-2022 01:05 283