Index of /checkResults/release/bioc-LATEST/RandomWalkRestartMH/raw-results/merida1
Name
Last modified
Size
Description
Parent Directory
-
install-summary.dcf
30-Mar-2024 00:38
295
buildsrc-summary.dcf
30-Mar-2024 00:38
366
install-out.txt
30-Mar-2024 00:38
728
buildsrc-out.txt
30-Mar-2024 00:38
948