Index of /checkResults/release/bioc-LATEST/RandomWalkRestartMH/raw-results/merida1

[ICO]NameLast modifiedSizeDescription

[DIR]Parent Directory  -  
[TXT]buildbin-out.txt02-Jul-2022 01:08 1.3K 
[   ]buildbin-summary.dcf02-Jul-2022 01:08 602  
[TXT]buildsrc-out.txt02-Jul-2022 01:08 1.1K 
[   ]buildsrc-summary.dcf02-Jul-2022 01:08 464  
[TXT]checksrc-out.txt02-Jul-2022 01:08 4.1K 
[   ]checksrc-summary.dcf02-Jul-2022 01:08 498  
[TXT]install-out.txt02-Jul-2022 01:08 1.1K 
[   ]install-summary.dcf02-Jul-2022 01:08 293