Index of /checkResults/release/bioc-LATEST/RandomWalkRestartMH/raw-results/kjohnson3
Name
Last modified
Size
Description
Parent Directory
-
buildsrc-out.txt
12-Jun-2024 03:44
947
buildsrc-summary.dcf
12-Jun-2024 03:44
366
install-out.txt
12-Jun-2024 03:44
726
install-summary.dcf
12-Jun-2024 03:44
295