Name | Last modified | Size | Description | |
---|---|---|---|---|
Parent Directory | - | |||
install-summary.dcf | 26-Jun-2024 06:39 | 268 | ||
install-out.txt | 26-Jun-2024 06:39 | 1.0K | ||
checksrc-summary.dcf | 26-Jun-2024 06:39 | 433 | ||
checksrc-out.txt | 26-Jun-2024 06:39 | 4.1K | ||
buildsrc-summary.dcf | 26-Jun-2024 06:39 | 432 | ||
buildsrc-out.txt | 26-Jun-2024 06:39 | 826 | ||