Name | Last modified | Size | Description | |
---|---|---|---|---|
Parent Directory | - | |||
install-out.txt | 13-Jul-2024 06:43 | 1.0K | ||
install-summary.dcf | 13-Jul-2024 06:43 | 278 | ||
buildsrc-out.txt | 13-Jul-2024 06:43 | 836 | ||
buildsrc-summary.dcf | 13-Jul-2024 06:43 | 442 | ||
checksrc-out.txt | 13-Jul-2024 06:43 | 4.2K | ||
checksrc-summary.dcf | 13-Jul-2024 06:43 | 463 | ||
buildbin-out.txt | 13-Jul-2024 06:43 | 1.2K | ||
buildbin-summary.dcf | 13-Jul-2024 06:43 | 559 | ||