Index of /checkResults/release/bioc-LATEST/RTopper/raw-results/palomino4

[ICO]NameLast modifiedSizeDescription

[DIR]Parent Directory  -  
[TXT]buildbin-out.txt02-Mar-2024 01:37 1.1K 
[   ]buildbin-summary.dcf02-Mar-2024 01:37 514  
[TXT]buildsrc-out.txt02-Mar-2024 01:37 899  
[   ]buildsrc-summary.dcf02-Mar-2024 01:37 452  
[TXT]checksrc-out.txt02-Mar-2024 01:37 3.3K 
[   ]checksrc-summary.dcf02-Mar-2024 01:37 446  
[TXT]install-out.txt02-Mar-2024 01:37 971  
[   ]install-summary.dcf02-Mar-2024 01:37 267