Index of /checkResults/release/bioc-LATEST/RTopper/raw-results/nebbiolo2

[ICO]NameLast modifiedSizeDescription

[DIR]Parent Directory  -  
[TXT]buildsrc-out.txt03-Mar-2024 01:36 869  
[   ]buildsrc-summary.dcf03-Mar-2024 01:36 417  
[TXT]checksrc-out.txt03-Mar-2024 01:36 3.3K 
[   ]checksrc-summary.dcf03-Mar-2024 01:36 414  
[TXT]install-out.txt03-Mar-2024 01:36 960  
[   ]install-summary.dcf03-Mar-2024 01:36 258