Index of /checkResults/release/bioc-LATEST/RTNsurvival/raw-results/palomino3

[ICO]NameLast modifiedSizeDescription

[DIR]Parent Directory  -  
[TXT]buildbin-out.txt02-Jul-2022 01:07 1.1K 
[   ]buildbin-summary.dcf02-Jul-2022 01:07 539  
[TXT]buildsrc-out.txt02-Jul-2022 01:07 859  
[   ]buildsrc-summary.dcf02-Jul-2022 01:07 468  
[TXT]checksrc-out.txt02-Jul-2022 01:07 3.2K 
[   ]checksrc-summary.dcf02-Jul-2022 01:07 463  
[TXT]install-out.txt02-Jul-2022 01:07 1.0K 
[   ]install-summary.dcf02-Jul-2022 01:07 276