Back to Multiple platform build/check report for BioC 3.18:   simplified   long
ABCDEFGHIJKLMNOPQ[R]STUVWXYZ

This page was generated on 2024-03-29 11:37:15 -0400 (Fri, 29 Mar 2024).

HostnameOSArch (*)R versionInstalled pkgs
nebbiolo2Linux (Ubuntu 22.04.3 LTS)x86_644.3.3 (2024-02-29) -- "Angel Food Cake" 4669
palomino4Windows Server 2022 Datacenterx644.3.3 (2024-02-29 ucrt) -- "Angel Food Cake" 4404
merida1macOS 12.7.1 Montereyx86_644.3.3 (2024-02-29) -- "Angel Food Cake" 4427
Click on any hostname to see more info about the system (e.g. compilers)      (*) as reported by 'uname -p', except on Windows and Mac OS X

Package 1815/2266HostnameOS / ArchINSTALLBUILDCHECKBUILD BIN
RTN 2.26.0  (landing page)
Mauro Castro
Snapshot Date: 2024-03-27 14:05:05 -0400 (Wed, 27 Mar 2024)
git_url: https://git.bioconductor.org/packages/RTN
git_branch: RELEASE_3_18
git_last_commit: f63f748
git_last_commit_date: 2023-10-24 09:55:16 -0400 (Tue, 24 Oct 2023)
nebbiolo2Linux (Ubuntu 22.04.3 LTS) / x86_64  OK    OK    OK  UNNEEDED, same version is already published
palomino4Windows Server 2022 Datacenter / x64  OK    OK    OK    OK  UNNEEDED, same version is already published
merida1macOS 12.7.1 Monterey / x86_64  OK    OK    OK    OK  UNNEEDED, same version is already published
kjohnson1macOS 13.6.1 Ventura / arm64see weekly results here

CHECK results for RTN on palomino4


To the developers/maintainers of the RTN package:
- Allow up to 24 hours (and sometimes 48 hours) for your latest push to git@git.bioconductor.org:packages/RTN.git to reflect on this report. See Troubleshooting Build Report for more information.
- Use the following Renviron settings to reproduce errors and warnings.
- If 'R CMD check' started to fail recently on the Linux builder(s) over a missing dependency, add the missing dependency to 'Suggests:' in your DESCRIPTION file. See Renviron.bioc for more information.

raw results


Summary

Package: RTN
Version: 2.26.0
Command: F:\biocbuild\bbs-3.18-bioc\R\bin\R.exe CMD check --no-multiarch --install=check:RTN.install-out.txt --library=F:\biocbuild\bbs-3.18-bioc\R\library --no-vignettes --timings RTN_2.26.0.tar.gz
StartedAt: 2024-03-28 04:40:54 -0400 (Thu, 28 Mar 2024)
EndedAt: 2024-03-28 04:45:43 -0400 (Thu, 28 Mar 2024)
EllapsedTime: 288.5 seconds
RetCode: 0
Status:   OK  
CheckDir: RTN.Rcheck
Warnings: 0

Command output

##############################################################################
##############################################################################
###
### Running command:
###
###   F:\biocbuild\bbs-3.18-bioc\R\bin\R.exe CMD check --no-multiarch --install=check:RTN.install-out.txt --library=F:\biocbuild\bbs-3.18-bioc\R\library --no-vignettes --timings RTN_2.26.0.tar.gz
###
##############################################################################
##############################################################################


* using log directory 'F:/biocbuild/bbs-3.18-bioc/meat/RTN.Rcheck'
* using R version 4.3.3 (2024-02-29 ucrt)
* using platform: x86_64-w64-mingw32 (64-bit)
* R was compiled by
    gcc.exe (GCC) 12.3.0
    GNU Fortran (GCC) 12.3.0
* running under: Windows Server 2022 x64 (build 20348)
* using session charset: UTF-8
* using option '--no-vignettes'
* checking for file 'RTN/DESCRIPTION' ... OK
* checking extension type ... Package
* this is package 'RTN' version '2.26.0'
* checking package namespace information ... OK
* checking package dependencies ... OK
* checking if this is a source package ... OK
* checking if there is a namespace ... OK
* checking for hidden files and directories ... OK
* checking for portable file names ... OK
* checking whether package 'RTN' can be installed ... OK
* checking installed package size ... NOTE
  installed size is  9.8Mb
  sub-directories of 1Mb or more:
    R      1.1Mb
    data   8.6Mb
* checking package directory ... OK
* checking 'build' directory ... OK
* checking DESCRIPTION meta-information ... OK
* checking top-level files ... OK
* checking for left-over files ... OK
* checking index information ... OK
* checking package subdirectories ... OK
* checking R files for non-ASCII characters ... OK
* checking R files for syntax errors ... OK
* checking whether the package can be loaded ... OK
* checking whether the package can be loaded with stated dependencies ... OK
* checking whether the package can be unloaded cleanly ... OK
* checking whether the namespace can be loaded with stated dependencies ... OK
* checking whether the namespace can be unloaded cleanly ... OK
* checking dependencies in R code ... OK
* checking S3 generic/method consistency ... OK
* checking replacement functions ... OK
* checking foreign function calls ... OK
* checking R code for possible problems ... OK
* checking Rd files ... OK
* checking Rd metadata ... OK
* checking Rd cross-references ... OK
* checking for missing documentation entries ... OK
* checking for code/documentation mismatches ... OK
* checking Rd \usage sections ... OK
* checking Rd contents ... OK
* checking for unstated dependencies in examples ... OK
* checking contents of 'data' directory ... OK
* checking data for non-ASCII characters ... OK
* checking data for ASCII and uncompressed saves ... OK
* checking files in 'vignettes' ... OK
* checking examples ... OK
* checking for unstated dependencies in 'tests' ... OK
* checking tests ...
  Running 'runTests.R'
 OK
* checking for unstated dependencies in vignettes ... OK
* checking package vignettes in 'inst/doc' ... OK
* checking running R code from vignettes ... SKIPPED
* checking re-building of vignette outputs ... SKIPPED
* checking PDF version of manual ... OK
* DONE

Status: 1 NOTE
See
  'F:/biocbuild/bbs-3.18-bioc/meat/RTN.Rcheck/00check.log'
for details.



Installation output

RTN.Rcheck/00install.out

##############################################################################
##############################################################################
###
### Running command:
###
###   F:\biocbuild\bbs-3.18-bioc\R\bin\R.exe CMD INSTALL RTN
###
##############################################################################
##############################################################################


* installing to library 'F:/biocbuild/bbs-3.18-bioc/R/library'
* installing *source* package 'RTN' ...
** using staged installation
** R
** data
** inst
** byte-compile and prepare package for lazy loading
** help
*** installing help indices
** building package indices
** installing vignettes
** testing if installed package can be loaded from temporary location
** testing if installed package can be loaded from final location
** testing if installed package keeps a record of temporary installation path
* DONE (RTN)

Tests output

RTN.Rcheck/tests/runTests.Rout


R version 4.3.3 (2024-02-29 ucrt) -- "Angel Food Cake"
Copyright (C) 2024 The R Foundation for Statistical Computing
Platform: x86_64-w64-mingw32/x64 (64-bit)

R is free software and comes with ABSOLUTELY NO WARRANTY.
You are welcome to redistribute it under certain conditions.
Type 'license()' or 'licence()' for distribution details.

R is a collaborative project with many contributors.
Type 'contributors()' for more information and
'citation()' on how to cite R or R packages in publications.

Type 'demo()' for some demos, 'help()' for on-line help, or
'help.start()' for an HTML browser interface to help.
Type 'q()' to quit R.

> BiocGenerics:::testPackage("RTN")
-Preprocessing for input data...
--Mapping 'expData' to 'rowAnnotation'...
--Checking 'regulatoryElements' in 'rowAnnotation'...
--Checking 'expData'...
-Preprocessing complete!

-Performing permutation analysis...
--For 5 regulons...

  |                                                                            
  |                                                                      |   0%
  |                                                                            
  |=======                                                               |  10%
  |                                                                            
  |==============                                                        |  20%
  |                                                                            
  |=====================                                                 |  30%
  |                                                                            
  |============================                                          |  40%
  |                                                                            
  |===================================                                   |  50%
  |                                                                            
  |==========================================                            |  60%
  |                                                                            
  |=================================================                     |  70%
  |                                                                            
  |========================================================              |  80%
  |                                                                            
  |===============================================================       |  90%
  |                                                                            
  |======================================================================| 100%
-Permutation analysis complete! 

-Performing bootstrap analysis...
--For 5 regulons...

  |                                                                            
  |                                                                      |   0%
  |                                                                            
  |=======                                                               |  10%
  |                                                                            
  |==============                                                        |  20%
  |                                                                            
  |=====================                                                 |  30%
  |                                                                            
  |============================                                          |  40%
  |                                                                            
  |===================================                                   |  50%
  |                                                                            
  |==========================================                            |  60%
  |                                                                            
  |=================================================                     |  70%
  |                                                                            
  |========================================================              |  80%
  |                                                                            
  |===============================================================       |  90%
  |                                                                            
  |======================================================================| 100%
-Bootstrap analysis complete! 

-Applying dpi filter...
-DPI filter complete! 

-Preprocessing for input data...
--Mapping 'phenotype' to 'phenoIDs'...
--Removing genes without names or values in 'phenotype'...
--Removing duplicated genes...
--Mapping 'hits' to 'phenoIDs'...
--Removing duplicated hits...
--Mapping 'transcriptionalNetwork' annotation to 'phenotype'...
--Checking agreement between 'transcriptionalNetwork' and 'phenotype'... 99.8% ! 
--Removing 'hits' not listed in 'transcriptionalNetwork' universe...
--Extracting regulons...
-Preprocessing complete!

-Performing master regulatory analysis...
--For 5 regulons...

  |                                                                            
  |                                                                      |   0%
  |                                                                            
  |==============                                                        |  20%
  |                                                                            
  |============================                                          |  40%
  |                                                                            
  |==========================================                            |  60%
  |                                                                            
  |========================================================              |  80%
  |                                                                            
  |======================================================================| 100%
-Master regulatory analysis complete

-Performing gene set enrichment analysis...
--For 5 regulons...

  |                                                                            
  |                                                                      |   0%
  |                                                                            
  |==============                                                        |  20%
  |                                                                            
  |============================                                          |  40%
  |                                                                            
  |==========================================                            |  60%
  |                                                                            
  |========================================================              |  80%
  |                                                                            
  |======================================================================| 100%
-Gene set enrichment analysis complete 

-Performing two-tailed GSEA analysis...
--For 5 regulons...

  |                                                                            
  |                                                                      |   0%
  |                                                                            
  |==============                                                        |  20%
  |                                                                            
  |============================                                          |  40%
  |                                                                            
  |==========================================                            |  60%
  |                                                                            
  |========================================================              |  80%
  |                                                                            
  |======================================================================| 100%

  |                                                                            
  |                                                                      |   0%
  |                                                                            
  |==============                                                        |  20%
  |                                                                            
  |============================                                          |  40%
  |                                                                            
  |==========================================                            |  60%
  |                                                                            
  |========================================================              |  80%
  |                                                                            
  |======================================================================| 100%
-GSEA2 analysis complete 

-Preprocessing for input data...
--Mapping 'expData' to 'rowAnnotation'...
--Checking 'regulatoryElements' in 'rowAnnotation'...
--Checking 'expData'...
-Preprocessing complete!

-Performing permutation analysis...
--For 2 regulons...

  |                                                                            
  |                                                                      |   0%
  |                                                                            
  |=======                                                               |  10%
  |                                                                            
  |==============                                                        |  20%
  |                                                                            
  |=====================                                                 |  30%
  |                                                                            
  |============================                                          |  40%
  |                                                                            
  |===================================                                   |  50%
  |                                                                            
  |==========================================                            |  60%
  |                                                                            
  |=================================================                     |  70%
  |                                                                            
  |========================================================              |  80%
  |                                                                            
  |===============================================================       |  90%
  |                                                                            
  |======================================================================| 100%
-Permutation analysis complete! 

-Performing bootstrap analysis...
--For 2 regulons...

  |                                                                            
  |                                                                      |   0%
  |                                                                            
  |=======                                                               |  10%
  |                                                                            
  |==============                                                        |  20%
  |                                                                            
  |=====================                                                 |  30%
  |                                                                            
  |============================                                          |  40%
  |                                                                            
  |===================================                                   |  50%
  |                                                                            
  |==========================================                            |  60%
  |                                                                            
  |=================================================                     |  70%
  |                                                                            
  |========================================================              |  80%
  |                                                                            
  |===============================================================       |  90%
  |                                                                            
  |======================================================================| 100%
-Bootstrap analysis complete! 

-Applying dpi filter...
-DPI filter complete! 

-Preprocessing for input data...
--Checking modulators in the dataset...
--Extracting TF-targets...
--Applying modulator independence constraint...
--Applying modulator range constraint...
--Selecting subsamples...

-Estimating mutual information threshold...

  |                                                                            
  |                                                                      |   0%
  |                                                                            
  |=======                                                               |  10%
  |                                                                            
  |==============                                                        |  20%
  |                                                                            
  |=====================                                                 |  30%
  |                                                                            
  |============================                                          |  40%
  |                                                                            
  |===================================                                   |  50%
  |                                                                            
  |==========================================                            |  60%
  |                                                                            
  |=================================================                     |  70%
  |                                                                            
  |========================================================              |  80%
  |                                                                            
  |===============================================================       |  90%
  |                                                                            
  |======================================================================| 100%

-Performing conditional mutual information analysis...
--For 2 tfs and 2 candidate modulator(s) 

  |                                                                            
  |                                                                      |   0%
  |                                                                            
  |===================================                                   |  50%
  |                                                                            
  |======================================================================| 100%
-Conditional analysis complete! 



RUNIT TEST PROTOCOL -- Thu Mar 28 04:45:32 2024 
*********************************************** 
Number of test functions: 2 
Number of errors: 0 
Number of failures: 0 

 
1 Test Suite : 
RTN RUnit Tests - 2 test functions, 0 errors, 0 failures
Number of test functions: 2 
Number of errors: 0 
Number of failures: 0 
> 
> proc.time()
   user  system elapsed 
  40.14    1.96   42.09 

Example timings

RTN.Rcheck/RTN-Ex.timings

nameusersystemelapsed
AVS-class000
RTN.data0.240.000.23
TNA-class000
TNI-class000
TNI.data0.280.000.28
avs.evse000
avs.get000
avs.pevse0.010.000.02
avs.plot1000
avs.plot2000
avs.rvse000
avs.vse000
tna.get0.250.000.25
tna.gsea10.220.000.22
tna.gsea20.210.000.20
tna.mra0.20.00.2
tna.plot.gsea10.190.020.21
tna.plot.gsea20.210.000.22
tni.alpha.adjust0.130.010.14
tni.annotate.regulons0.080.000.08
tni.annotate.samples0.060.000.06
tni.area30.060.000.06
tni.bootstrap0.100.020.11
tni.conditional0.060.010.08
tni.constructor0.230.000.23
tni.dpi.filter0.050.020.06
tni.get0.090.000.09
tni.graph0.050.010.07
tni.gsea20.060.020.07
tni.overlap.genesets0.070.000.07
tni.permutation0.040.030.08
tni.plot.checks0.070.000.06
tni.plot.sre0.060.010.08
tni.preprocess000
tni.prune0.060.000.06
tni.regulon.summary0.050.020.06
tni.replace.samples000
tni.sre0.040.000.05
tni2tna.preprocess0.330.000.33
upgradeTNA000
upgradeTNI000