Back to Multiple platform build/check report for BioC 3.14
ABCDEFGHIJKLMNOPQ[R]STUVWXYZ

This page was generated on 2021-11-24 15:05:46 -0500 (Wed, 24 Nov 2021).

CHECK results for RTCGAToolbox on tokay2

To the developers/maintainers of the RTCGAToolbox package:
- Please allow up to 24 hours (and sometimes 48 hours) for your latest push to git@git.bioconductor.org:packages/RTCGAToolbox.git to
reflect on this report. See How and When does the builder pull? When will my changes propagate? here for more information.
- Make sure to use the following settings in order to reproduce any error or warning you see on this page.

raw results

Package 1669/2083HostnameOS / ArchINSTALLBUILDCHECKBUILD BIN
RTCGAToolbox 2.24.0  (landing page)
Marcel Ramos
Snapshot Date: 2021-11-23 04:15:06 -0500 (Tue, 23 Nov 2021)
git_url: https://git.bioconductor.org/packages/RTCGAToolbox
git_branch: RELEASE_3_14
git_last_commit: b1359f0
git_last_commit_date: 2021-10-26 12:20:48 -0500 (Tue, 26 Oct 2021)
nebbiolo2Linux (Ubuntu 20.04.3 LTS) / x86_64  OK    OK    OK  UNNEEDED, same version is already published
tokay2Windows Server 2012 R2 Standard / x64  OK    OK    OK    OK  UNNEEDED, same version is already published
machv2macOS 10.14.6 Mojave / x86_64  OK    OK    OK    OK  UNNEEDED, same version is already published

Summary

Package: RTCGAToolbox
Version: 2.24.0
Command: C:\Users\biocbuild\bbs-3.14-bioc\R\bin\R.exe CMD check --force-multiarch --install=check:RTCGAToolbox.install-out.txt --library=C:\Users\biocbuild\bbs-3.14-bioc\R\library --no-vignettes --timings RTCGAToolbox_2.24.0.tar.gz
StartedAt: 2021-11-24 03:59:31 -0500 (Wed, 24 Nov 2021)
EndedAt: 2021-11-24 04:04:16 -0500 (Wed, 24 Nov 2021)
EllapsedTime: 285.3 seconds
RetCode: 0
Status:   OK  
CheckDir: RTCGAToolbox.Rcheck
Warnings: 0

Command output

##############################################################################
##############################################################################
###
### Running command:
###
###   C:\Users\biocbuild\bbs-3.14-bioc\R\bin\R.exe CMD check --force-multiarch --install=check:RTCGAToolbox.install-out.txt --library=C:\Users\biocbuild\bbs-3.14-bioc\R\library --no-vignettes --timings RTCGAToolbox_2.24.0.tar.gz
###
##############################################################################
##############################################################################


* using log directory 'C:/Users/biocbuild/bbs-3.14-bioc/meat/RTCGAToolbox.Rcheck'
* using R version 4.1.2 (2021-11-01)
* using platform: x86_64-w64-mingw32 (64-bit)
* using session charset: ISO8859-1
* using option '--no-vignettes'
* checking for file 'RTCGAToolbox/DESCRIPTION' ... OK
* checking extension type ... Package
* this is package 'RTCGAToolbox' version '2.24.0'
* package encoding: UTF-8
* checking package namespace information ... OK
* checking package dependencies ... OK
* checking if this is a source package ... OK
* checking if there is a namespace ... OK
* checking for hidden files and directories ... OK
* checking for portable file names ... OK
* checking whether package 'RTCGAToolbox' can be installed ... OK
* checking installed package size ... OK
* checking package directory ... OK
* checking 'build' directory ... OK
* checking DESCRIPTION meta-information ... OK
* checking top-level files ... OK
* checking for left-over files ... OK
* checking index information ... OK
* checking package subdirectories ... OK
* checking R files for non-ASCII characters ... OK
* checking R files for syntax errors ... OK
* loading checks for arch 'i386'
** checking whether the package can be loaded ... OK
** checking whether the package can be loaded with stated dependencies ... OK
** checking whether the package can be unloaded cleanly ... OK
** checking whether the namespace can be loaded with stated dependencies ... OK
** checking whether the namespace can be unloaded cleanly ... OK
* loading checks for arch 'x64'
** checking whether the package can be loaded ... OK
** checking whether the package can be loaded with stated dependencies ... OK
** checking whether the package can be unloaded cleanly ... OK
** checking whether the namespace can be loaded with stated dependencies ... OK
** checking whether the namespace can be unloaded cleanly ... OK
* checking dependencies in R code ... OK
* checking S3 generic/method consistency ... OK
* checking replacement functions ... OK
* checking foreign function calls ... OK
* checking R code for possible problems ... OK
* checking Rd files ... OK
* checking Rd metadata ... OK
* checking Rd cross-references ... OK
* checking for missing documentation entries ... OK
* checking for code/documentation mismatches ... OK
* checking Rd \usage sections ... OK
* checking Rd contents ... OK
* checking for unstated dependencies in examples ... OK
* checking contents of 'data' directory ... OK
* checking data for non-ASCII characters ... OK
* checking LazyData ... OK
* checking data for ASCII and uncompressed saves ... OK
* checking files in 'vignettes' ... OK
* checking examples ...
** running examples for arch 'i386' ... OK
Examples with CPU (user + system) or elapsed time > 5s
                                   user system elapsed
getGISTICPeaks                     6.37   0.48   23.53
biocExtract                        6.22   0.49    6.79
makeSummarizedExperimentFromGISTIC 6.24   0.21    5.98
** running examples for arch 'x64' ... OK
Examples with CPU (user + system) or elapsed time > 5s
               user system elapsed
getGISTICPeaks 7.74   0.37   26.51
biocExtract    6.06   0.13    6.19
* checking for unstated dependencies in vignettes ... OK
* checking package vignettes in 'inst/doc' ... OK
* checking running R code from vignettes ... SKIPPED
* checking re-building of vignette outputs ... SKIPPED
* checking PDF version of manual ... OK
* DONE

Status: OK


Installation output

RTCGAToolbox.Rcheck/00install.out

##############################################################################
##############################################################################
###
### Running command:
###
###   C:\cygwin\bin\curl.exe -O http://155.52.207.166/BBS/3.14/bioc/src/contrib/RTCGAToolbox_2.24.0.tar.gz && rm -rf RTCGAToolbox.buildbin-libdir && mkdir RTCGAToolbox.buildbin-libdir && C:\Users\biocbuild\bbs-3.14-bioc\R\bin\R.exe CMD INSTALL --merge-multiarch --build --library=RTCGAToolbox.buildbin-libdir RTCGAToolbox_2.24.0.tar.gz && C:\Users\biocbuild\bbs-3.14-bioc\R\bin\R.exe CMD INSTALL RTCGAToolbox_2.24.0.zip && rm RTCGAToolbox_2.24.0.tar.gz RTCGAToolbox_2.24.0.zip
###
##############################################################################
##############################################################################


  % Total    % Received % Xferd  Average Speed   Time    Time     Time  Current
                                 Dload  Upload   Total   Spent    Left  Speed

  0     0    0     0    0     0      0      0 --:--:-- --:--:-- --:--:--     0
 38 2175k   38  835k    0     0  1892k      0  0:00:01 --:--:--  0:00:01 1891k
100 2175k  100 2175k    0     0  2555k      0 --:--:-- --:--:-- --:--:-- 2556k

install for i386

* installing *source* package 'RTCGAToolbox' ...
** using staged installation
** R
** data
*** moving datasets to lazyload DB
** inst
** byte-compile and prepare package for lazy loading
** help
*** installing help indices
  converting help for package 'RTCGAToolbox'
    finding HTML links ... done
    CorResult-class                         html  
    DGEResult-class                         html  
    FirehoseCGHArray-class                  html  
    FirehoseData-class                      html  
    FirehoseGISTIC-class                    html  
    FirehoseMethylationArray-class          html  
    FirehosemRNAArray-class                 html  
    RTCGAToolbox                            html  
    accmini                                 html  
    biocExtract                             html  
    finding level-2 HTML links ... done

    getBroadSubtypes                        html  
    getCNGECorrelation                      html  
    getData                                 html  
    getDiffExpressedGenes                   html  
    getFirehoseAnalyzeDates                 html  
    getFirehoseData                         html  
    getFirehoseDatasets                     html  
    getFirehoseRunningDates                 html  
    getGISTICPeaks                          html  
    getLinks                                html  
    getMutationRate                         html  
    getReport                               html  
    getSurvival                             html  
    hg19.ucsc.gene.locations                html  
    makeSummarizedExperimentFromGISTIC      html  
    selectType                              html  
    showResults-CorResult                   html  
    showResults-DGEResult                   html  
    showResults                             html  
** building package indices
** installing vignettes
** testing if installed package can be loaded from temporary location
** testing if installed package can be loaded from final location
** testing if installed package keeps a record of temporary installation path

install for x64

* installing *source* package 'RTCGAToolbox' ...
** testing if installed package can be loaded
* MD5 sums
packaged installation of 'RTCGAToolbox' as RTCGAToolbox_2.24.0.zip
* DONE (RTCGAToolbox)
* installing to library 'C:/Users/biocbuild/bbs-3.14-bioc/R/library'
package 'RTCGAToolbox' successfully unpacked and MD5 sums checked

Tests output


Example timings

RTCGAToolbox.Rcheck/examples_i386/RTCGAToolbox-Ex.timings

nameusersystemelapsed
biocExtract6.220.496.79
getBroadSubtypes0.080.030.32
getCNGECorrelation0.000.010.02
getData0.030.000.03
getDiffExpressedGenes000
getFirehoseAnalyzeDates0.000.020.01
getFirehoseData000
getFirehoseDatasets000
getFirehoseRunningDates000
getGISTICPeaks 6.37 0.4823.53
getMutationRate0.000.020.02
getReport3.860.103.97
getSurvival0.010.000.02
makeSummarizedExperimentFromGISTIC6.240.215.98
showResults-CorResult000
showResults-DGEResult0.000.010.02
showResults000

RTCGAToolbox.Rcheck/examples_x64/RTCGAToolbox-Ex.timings

nameusersystemelapsed
biocExtract6.060.136.19
getBroadSubtypes0.030.060.27
getCNGECorrelation0.010.000.01
getData0.020.010.03
getDiffExpressedGenes0.000.020.02
getFirehoseAnalyzeDates000
getFirehoseData0.010.000.02
getFirehoseDatasets000
getFirehoseRunningDates000
getGISTICPeaks 7.74 0.3726.51
getMutationRate000
getReport3.580.223.79
getSurvival000
makeSummarizedExperimentFromGISTIC4.710.094.53
showResults-CorResult000
showResults-DGEResult000
showResults000