Name | Last modified | Size | Description | |
---|---|---|---|---|
Parent Directory | - | |||
install-summary.dcf | 10-May-2024 00:41 | 280 | ||
install-out.txt | 10-May-2024 00:41 | 1.0K | ||
checksrc-summary.dcf | 10-May-2024 00:41 | 471 | ||
checksrc-out.txt | 10-May-2024 00:41 | 3.5K | ||
buildsrc-summary.dcf | 10-May-2024 00:41 | 443 | ||
buildsrc-out.txt | 10-May-2024 00:41 | 900 | ||