Name | Last modified | Size | Description | |
---|---|---|---|---|
Parent Directory | - | |||
buildbin-out.txt | 24-Jul-2024 22:07 | 1.2K | ||
buildbin-summary.dcf | 24-Jul-2024 22:07 | 560 | ||
buildsrc-out.txt | 27-Jul-2024 06:42 | 899 | ||
buildsrc-summary.dcf | 27-Jul-2024 06:42 | 441 | ||
checksrc-out.txt | 27-Jul-2024 06:42 | 3.5K | ||
checksrc-summary.dcf | 27-Jul-2024 06:42 | 464 | ||
install-out.txt | 27-Jul-2024 06:42 | 1.0K | ||
install-summary.dcf | 27-Jul-2024 06:42 | 279 | ||