Name | Last modified | Size | Description | |
---|---|---|---|---|
Parent Directory | - | |||
buildsrc-out.txt | 03-May-2024 00:42 | 829 | ||
buildsrc-summary.dcf | 03-May-2024 00:42 | 437 | ||
checksrc-out.txt | 03-May-2024 00:42 | 9.2K | ||
checksrc-summary.dcf | 03-May-2024 00:42 | 469 | ||
install-out.txt | 03-May-2024 00:42 | 1.0K | ||
install-summary.dcf | 03-May-2024 00:42 | 276 | ||