Index of /checkResults/release/bioc-LATEST/ROTS/raw-results/palomino3

[ICO]NameLast modifiedSizeDescription

[DIR]Parent Directory  -  
[TXT]buildbin-out.txt02-Jul-2022 01:07 2.5K 
[   ]buildbin-summary.dcf02-Jul-2022 01:07 497  
[TXT]buildsrc-out.txt02-Jul-2022 01:07 856  
[   ]buildsrc-summary.dcf02-Jul-2022 01:07 440  
[TXT]checksrc-out.txt02-Jul-2022 01:07 4.3K 
[   ]checksrc-summary.dcf02-Jul-2022 01:07 434  
[TXT]install-out.txt02-Jul-2022 01:07 2.4K 
[   ]install-summary.dcf02-Jul-2022 01:07 262