![]() | Name | Last modified | Size | Description |
---|---|---|---|---|
![]() | Parent Directory | - | ||
![]() | buildsrc-out.txt | 22-Sep-2023 00:34 | 824 | |
![]() | buildsrc-summary.dcf | 22-Sep-2023 00:34 | 408 | |
![]() | checksrc-out.txt | 22-Sep-2023 00:34 | 3.6K | |
![]() | checksrc-summary.dcf | 22-Sep-2023 00:34 | 401 | |
![]() | install-out.txt | 22-Sep-2023 00:34 | 2.2K | |
![]() | install-summary.dcf | 22-Sep-2023 00:34 | 253 | |