Index of /checkResults/release/bioc-LATEST/ROTS/raw-results/merida1

[ICO]NameLast modifiedSizeDescription

[DIR]Parent Directory  -  
[   ]install-summary.dcf11-Aug-2022 04:40 263  
[   ]buildsrc-summary.dcf11-Aug-2022 04:40 418  
[   ]checksrc-summary.dcf11-Aug-2022 04:40 431  
[   ]buildbin-summary.dcf11-Aug-2022 04:40 512  
[TXT]buildsrc-out.txt11-Aug-2022 04:40 834  
[TXT]install-out.txt11-Aug-2022 04:40 2.6K 
[TXT]buildbin-out.txt11-Aug-2022 04:40 3.4K 
[TXT]checksrc-out.txt11-Aug-2022 04:40 3.8K