Index of /checkResults/release/bioc-LATEST/ROTS/raw-results/merida1

[ICO]NameLast modifiedSizeDescription

[DIR]Parent Directory  -  
[TXT]buildbin-out.txt02-Jul-2022 01:08 3.4K 
[   ]buildbin-summary.dcf02-Jul-2022 01:08 512  
[TXT]buildsrc-out.txt02-Jul-2022 01:08 834  
[   ]buildsrc-summary.dcf02-Jul-2022 01:08 418  
[TXT]checksrc-out.txt02-Jul-2022 01:08 3.8K 
[   ]checksrc-summary.dcf02-Jul-2022 01:08 431  
[TXT]install-out.txt02-Jul-2022 01:08 2.6K 
[   ]install-summary.dcf02-Jul-2022 01:08 263