Name | Last modified | Size | Description | |
---|---|---|---|---|
Parent Directory | - | |||
buildbin-out.txt | 26-Jun-2024 06:44 | 4.7K | ||
buildbin-summary.dcf | 26-Jun-2024 06:44 | 512 | ||
buildsrc-out.txt | 26-Jun-2024 06:44 | 834 | ||
buildsrc-summary.dcf | 26-Jun-2024 06:44 | 418 | ||
checksrc-out.txt | 26-Jun-2024 06:44 | 3.8K | ||
checksrc-summary.dcf | 26-Jun-2024 06:44 | 431 | ||
install-out.txt | 26-Jun-2024 06:44 | 2.7K | ||
install-summary.dcf | 26-Jun-2024 06:44 | 263 | ||