Back to Multiple platform build/check report for BioC 3.12 |
|
This page was generated on 2021-01-25 11:54:22 -0500 (Mon, 25 Jan 2021).
TO THE DEVELOPERS/MAINTAINERS OF THE ROCpAI PACKAGE: Please make sure to use the following settings in order to reproduce any error or warning you see on this page. |
Package 1564/1974 | Hostname | OS / Arch | INSTALL | BUILD | CHECK | BUILD BIN | ||||||
ROCpAI 1.2.0 Juan-Pedro Garcia
| malbec1 | Linux (Ubuntu 18.04.5 LTS) / x86_64 | OK | OK | OK | ![]() | ||||||
nebbiolo1 | Linux (Ubuntu 20.04.1 LTS) / x86_64 | OK | OK | OK | ||||||||
tokay1 | Windows Server 2012 R2 Standard / x64 | OK | OK | OK | [ OK ] | ![]() | ||||||
merida1 | macOS 10.14.6 Mojave / x86_64 | OK | OK | OK | OK | ![]() |
Package: ROCpAI |
Version: 1.2.0 |
Command: rm -rf ROCpAI.buildbin-libdir && mkdir ROCpAI.buildbin-libdir && C:\Users\biocbuild\bbs-3.12-bioc\R\bin\R.exe CMD INSTALL --merge-multiarch --build --library=ROCpAI.buildbin-libdir ROCpAI_1.2.0.tar.gz |
StartedAt: 2021-01-25 10:15:40 -0500 (Mon, 25 Jan 2021) |
EndedAt: 2021-01-25 10:16:16 -0500 (Mon, 25 Jan 2021) |
EllapsedTime: 35.8 seconds |
RetCode: 0 |
Status: OK |
PackageFile: ROCpAI_1.2.0.zip |
PackageFileSize: 356.4 KiB |
############################################################################## ############################################################################## ### ### Running command: ### ### rm -rf ROCpAI.buildbin-libdir && mkdir ROCpAI.buildbin-libdir && C:\Users\biocbuild\bbs-3.12-bioc\R\bin\R.exe CMD INSTALL --merge-multiarch --build --library=ROCpAI.buildbin-libdir ROCpAI_1.2.0.tar.gz ### ############################################################################## ############################################################################## install for i386 * installing *source* package 'ROCpAI' ... ** using staged installation ** R ** inst ** byte-compile and prepare package for lazy loading ** help *** installing help indices converting help for package 'ROCpAI' finding HTML links ... done MCpAUCboot html McpAUC html TpAUC html TpAUCboot html pointsCurve html ** building package indices ** installing vignettes ** testing if installed package can be loaded from temporary location ** testing if installed package can be loaded from final location ** testing if installed package keeps a record of temporary installation path install for x64 * installing *source* package 'ROCpAI' ... ** testing if installed package can be loaded * MD5 sums packaged installation of 'ROCpAI' as ROCpAI_1.2.0.zip * DONE (ROCpAI)