Back to Multiple platform build/check report for BioC 3.12
ABCDEFGHIJKLMNOPQ[R]STUVWXYZ

BUILD report for ROCpAI on nebbiolo1

This page was generated on 2021-01-19 11:54:18 -0500 (Tue, 19 Jan 2021).

TO THE DEVELOPERS/MAINTAINERS OF THE ROCpAI PACKAGE: Please make sure to use the following settings in order to reproduce any error or warning you see on this page.
Package 1564/1974HostnameOS / ArchINSTALLBUILDCHECKBUILD BIN
ROCpAI 1.2.0
Juan-Pedro Garcia
Snapshot Date: 2021-01-18 14:42:24 -0500 (Mon, 18 Jan 2021)
URL: https://git.bioconductor.org/packages/ROCpAI
Branch: RELEASE_3_12
Last Commit: 51f4b3c
Last Changed Date: 2020-10-27 11:54:46 -0500 (Tue, 27 Oct 2020)
malbec1 Linux (Ubuntu 18.04.5 LTS) / x86_64  OK  OK  OK UNNEEDED, same version exists in internal repository
nebbiolo1 Linux (Ubuntu 20.04.1 LTS) / x86_64  OK [ OK ] OK 
tokay1 Windows Server 2012 R2 Standard / x64  OK  OK  OK  OK UNNEEDED, same version exists in internal repository
merida1 macOS 10.14.6 Mojave / x86_64  OK  OK  OK  OK UNNEEDED, same version exists in internal repository

Summary

Package: ROCpAI
Version: 1.2.0
Command: /home/biocbuild/bbs-3.12-bioc/R/bin/R CMD build --keep-empty-dirs --no-resave-data ROCpAI
StartedAt: 2021-01-18 19:33:03 -0500 (Mon, 18 Jan 2021)
EndedAt: 2021-01-18 19:33:42 -0500 (Mon, 18 Jan 2021)
EllapsedTime: 39.1 seconds
RetCode: 0
Status:  OK 
PackageFile: ROCpAI_1.2.0.tar.gz
PackageFileSize: 383.5 KiB

Command output

##############################################################################
##############################################################################
###
### Running command:
###
###   /home/biocbuild/bbs-3.12-bioc/R/bin/R CMD build --keep-empty-dirs --no-resave-data ROCpAI
###
##############################################################################
##############################################################################


* checking for file ‘ROCpAI/DESCRIPTION’ ... OK
* preparing ‘ROCpAI’:
* checking DESCRIPTION meta-information ... OK
* installing the package to build vignettes
* creating vignettes ... OK
* checking for LF line-endings in source and make files and shell scripts
* checking for empty or unneeded directories
* building ‘ROCpAI_1.2.0.tar.gz’