Name | Last modified | Size | Description | |
---|---|---|---|---|
Parent Directory | - | |||
buildbin-out.txt | 12-Jun-2024 03:42 | 3.6K | ||
buildbin-summary.dcf | 12-Jun-2024 03:42 | 505 | ||
buildsrc-out.txt | 12-Jun-2024 03:42 | 830 | ||
buildsrc-summary.dcf | 12-Jun-2024 03:42 | 414 | ||
checksrc-out.txt | 12-Jun-2024 03:42 | 3.8K | ||
checksrc-summary.dcf | 12-Jun-2024 03:42 | 427 | ||
install-out.txt | 12-Jun-2024 03:42 | 1.7K | ||
install-summary.dcf | 12-Jun-2024 03:42 | 261 | ||