Name | Last modified | Size | Description | |
---|---|---|---|---|
Parent Directory | - | |||
install-out.txt | 10-Jul-2024 06:43 | 1.7K | ||
install-summary.dcf | 10-Jul-2024 06:43 | 261 | ||
buildsrc-out.txt | 10-Jul-2024 06:43 | 830 | ||
buildsrc-summary.dcf | 10-Jul-2024 06:43 | 414 | ||
checksrc-out.txt | 10-Jul-2024 06:43 | 3.8K | ||
checksrc-summary.dcf | 10-Jul-2024 06:43 | 427 | ||
buildbin-out.txt | 10-Jul-2024 06:43 | 3.6K | ||
buildbin-summary.dcf | 10-Jul-2024 06:43 | 505 | ||