Back to Multiple platform build/check report for BioC 3.12
ABCDEFGHIJKLMNOPQ[R]STUVWXYZ

Multiple platform build/check report for BioC 3.12

Results for package RNAprobR

This page was generated on 2021-02-27 12:08:02 -0500 (Sat, 27 Feb 2021).

Package 1553/1974HostnameOS / ArchINSTALLBUILDCHECKBUILD BIN
RNAprobR 1.22.0
Nikos Sidiropoulos
Snapshot Date: 2021-02-26 14:50:01 -0500 (Fri, 26 Feb 2021)
URL: https://git.bioconductor.org/packages/RNAprobR
Branch: RELEASE_3_12
Last Commit: a1d0885
Last Changed Date: 2020-10-27 11:03:22 -0500 (Tue, 27 Oct 2020)
malbec1Linux (Ubuntu 18.04.5 LTS) / x86_64  OK    OK    WARNINGS  UNNEEDED, same version exists in internal repository
nebbiolo1Linux (Ubuntu 20.04.2 LTS) / x86_64  OK    OK    NA  
tokay1Windows Server 2012 R2 Standard / x64  OK    OK    WARNINGS    NA  
merida1macOS 10.14.6 Mojave / x86_64  OK    OK    WARNINGS    OK  UNNEEDED, same version exists in internal repository