Name | Last modified | Size | Description | |
---|---|---|---|---|
Parent Directory | - | |||
buildsrc-out.txt | 27-Jul-2024 06:38 | 869 | ||
buildsrc-summary.dcf | 27-Jul-2024 06:38 | 418 | ||
checksrc-out.txt | 27-Jul-2024 06:38 | 12K | ||
checksrc-summary.dcf | 27-Jul-2024 06:38 | 414 | ||
install-out.txt | 27-Jul-2024 06:38 | 960 | ||
install-summary.dcf | 27-Jul-2024 06:38 | 259 | ||