Name | Last modified | Size | Description | |
---|---|---|---|---|
Parent Directory | - | |||
buildbin-summary.dcf | 27-Jul-2024 06:39 | 587 | ||
buildbin-out.txt | 27-Jul-2024 06:39 | 1.2K | ||
checksrc-summary.dcf | 27-Jul-2024 06:39 | 495 | ||
checksrc-out.txt | 27-Jul-2024 06:39 | 5.3K | ||
buildsrc-summary.dcf | 27-Jul-2024 06:39 | 501 | ||
buildsrc-out.txt | 27-Jul-2024 06:39 | 959 | ||
install-summary.dcf | 27-Jul-2024 06:39 | 292 | ||
install-out.txt | 27-Jul-2024 06:39 | 1.0K | ||