Name | Last modified | Size | Description | |
---|---|---|---|---|
Parent Directory | - | |||
buildbin-out.txt | 29-Jun-2024 06:42 | 1.2K | ||
buildbin-summary.dcf | 29-Jun-2024 06:42 | 585 | ||
checksrc-summary.dcf | 29-Jun-2024 06:42 | 495 | ||
checksrc-out.txt | 29-Jun-2024 06:42 | 5.3K | ||
buildsrc-summary.dcf | 29-Jun-2024 06:42 | 501 | ||
buildsrc-out.txt | 29-Jun-2024 06:42 | 959 | ||
install-summary.dcf | 29-Jun-2024 06:42 | 292 | ||
install-out.txt | 29-Jun-2024 06:42 | 1.0K | ||