Name | Last modified | Size | Description | |
---|---|---|---|---|
Parent Directory | - | |||
buildsrc-out.txt | 10-May-2024 00:41 | 928 | ||
buildsrc-summary.dcf | 10-May-2024 00:41 | 465 | ||
checksrc-out.txt | 10-May-2024 00:41 | 5.4K | ||
checksrc-summary.dcf | 10-May-2024 00:41 | 499 | ||
install-out.txt | 10-May-2024 00:41 | 1.0K | ||
install-summary.dcf | 10-May-2024 00:41 | 294 | ||