Name | Last modified | Size | Description | |
---|---|---|---|---|
Parent Directory | - | |||
buildbin-out.txt | 27-Jul-2024 06:39 | 1.2K | ||
buildbin-summary.dcf | 27-Jul-2024 06:39 | 600 | ||
buildsrc-out.txt | 27-Jul-2024 06:39 | 969 | ||
buildsrc-summary.dcf | 27-Jul-2024 06:39 | 507 | ||
checksrc-out.txt | 27-Jul-2024 06:39 | 5.0K | ||
checksrc-summary.dcf | 27-Jul-2024 06:39 | 503 | ||
install-out.txt | 27-Jul-2024 06:39 | 1.0K | ||
install-summary.dcf | 27-Jul-2024 06:39 | 296 | ||