Name | Last modified | Size | Description | |
---|---|---|---|---|
Parent Directory | - | |||
buildsrc-out.txt | 15-Jun-2024 03:37 | 925 | ||
buildsrc-summary.dcf | 15-Jun-2024 03:37 | 459 | ||
checksrc-out.txt | 15-Jun-2024 03:37 | 5.0K | ||
checksrc-summary.dcf | 15-Jun-2024 03:37 | 470 | ||
install-out.txt | 15-Jun-2024 03:37 | 1.0K | ||
install-summary.dcf | 15-Jun-2024 03:37 | 287 | ||