Name | Last modified | Size | Description | |
---|---|---|---|---|
Parent Directory | - | |||
install-summary.dcf | 13-Jul-2024 06:42 | 297 | ||
install-out.txt | 13-Jul-2024 06:42 | 1.0K | ||
checksrc-summary.dcf | 13-Jul-2024 06:42 | 500 | ||
checksrc-out.txt | 13-Jul-2024 06:42 | 5.1K | ||
buildsrc-summary.dcf | 13-Jul-2024 06:42 | 469 | ||
buildsrc-out.txt | 13-Jul-2024 06:42 | 935 | ||
buildbin-summary.dcf | 13-Jul-2024 06:42 | 614 | ||
buildbin-out.txt | 13-Jul-2024 06:42 | 1.3K | ||