Index of /checkResults/release/bioc-LATEST/RNAdecay/raw-results/merida1
Name
Last modified
Size
Description
Parent Directory
-
buildsrc-out.txt
05-Mar-2024 01:39
1.1K
buildsrc-summary.dcf
05-Mar-2024 01:39
347
install-out.txt
05-Mar-2024 01:39
9.3K
install-summary.dcf
05-Mar-2024 01:39
272