Index of /checkResults/release/bioc-LATEST/RMassBank/raw-results/tokay2

[ICO]NameLast modifiedSizeDescription

[DIR]Parent Directory  -  
[TXT]buildbin-out.txt04-Dec-2021 03:05 7.4K 
[   ]buildbin-summary.dcf04-Dec-2021 03:05 556  
[TXT]buildsrc-out.txt04-Dec-2021 03:05 865  
[   ]buildsrc-summary.dcf04-Dec-2021 03:05 476  
[TXT]checksrc-out.txt04-Dec-2021 03:05 19K 
[   ]checksrc-summary.dcf04-Dec-2021 03:05 482  
[TXT]install-out.txt04-Dec-2021 03:05 7.1K 
[   ]install-summary.dcf04-Dec-2021 03:05 304