Name | Last modified | Size | Description | |
---|---|---|---|---|
Parent Directory | - | |||
install-summary.dcf | 26-Jun-2024 06:41 | 272 | ||
install-out.txt | 26-Jun-2024 06:41 | 968 | ||
checksrc-summary.dcf | 22-Jun-2024 06:40 | 459 | ||
checksrc-out.txt | 22-Jun-2024 06:40 | 6.5K | ||
buildsrc-summary.dcf | 26-Jun-2024 06:41 | 375 | ||
buildsrc-out.txt | 26-Jun-2024 06:41 | 9.2K | ||
buildbin-summary.dcf | 22-Jun-2024 06:40 | 528 | ||
buildbin-out.txt | 22-Jun-2024 06:40 | 1.1K | ||